BEGIN:VCALENDAR
VERSION:2.0
PRODID:-//Set The Captives Free Outreach Center - ECPv6.15.20//NONSGML v1.0//EN
CALSCALE:GREGORIAN
METHOD:PUBLISH
X-ORIGINAL-URL:https://stcfoc.com
X-WR-CALDESC:Events for Set The Captives Free Outreach Center
REFRESH-INTERVAL;VALUE=DURATION:PT1H
X-Robots-Tag:noindex
X-PUBLISHED-TTL:PT1H
BEGIN:VTIMEZONE
TZID:America/New_York
BEGIN:DAYLIGHT
TZOFFSETFROM:-0500
TZOFFSETTO:-0400
TZNAME:EDT
DTSTART:20240310T070000
END:DAYLIGHT
BEGIN:STANDARD
TZOFFSETFROM:-0400
TZOFFSETTO:-0500
TZNAME:EST
DTSTART:20241103T060000
END:STANDARD
BEGIN:DAYLIGHT
TZOFFSETFROM:-0500
TZOFFSETTO:-0400
TZNAME:EDT
DTSTART:20250309T070000
END:DAYLIGHT
BEGIN:STANDARD
TZOFFSETFROM:-0400
TZOFFSETTO:-0500
TZNAME:EST
DTSTART:20251102T060000
END:STANDARD
BEGIN:DAYLIGHT
TZOFFSETFROM:-0500
TZOFFSETTO:-0400
TZNAME:EDT
DTSTART:20260308T070000
END:DAYLIGHT
BEGIN:STANDARD
TZOFFSETFROM:-0400
TZOFFSETTO:-0500
TZNAME:EST
DTSTART:20261101T060000
END:STANDARD
END:VTIMEZONE
BEGIN:VEVENT
DTSTART;VALUE=DATE:20250720
DTEND;VALUE=DATE:20250802
DTSTAMP:20260422T102519
CREATED:20250721T221004Z
LAST-MODIFIED:20250721T235414Z
UID:7899-1752969600-1754092799@stcfoc.com
SUMMARY:Faith & Focus College Care Packages
DESCRIPTION:CALLING ALL COLLEGE STUDENTS! ROOTED Young Adult Ministry will be blessing first-year freshman and upper-classmen with ⭐ “Faith & Focus College Care Packages”  that will include essential items\, snacks\, school supplies\, and a few uplifting surprises to help you start the semester strong. ⭐ You MUST sign-up by August 1st. Care packages will be distributed on Sundays August 3rd and August 10th directly after service. \nCLICK HERE OR ON THE IMAGE BELOW TO SIGN-UP NOW
URL:https://stcfoc.com/event/college-care-packages/
CATEGORIES:Featured,Men,Outreach,Rooted,Women,Young Adults
END:VEVENT
END:VCALENDAR