BEGIN:VCALENDAR
VERSION:2.0
PRODID:-//Set The Captives Free Outreach Center - ECPv6.15.20//NONSGML v1.0//EN
CALSCALE:GREGORIAN
METHOD:PUBLISH
X-ORIGINAL-URL:https://stcfoc.com
X-WR-CALDESC:Events for Set The Captives Free Outreach Center
REFRESH-INTERVAL;VALUE=DURATION:PT1H
X-Robots-Tag:noindex
X-PUBLISHED-TTL:PT1H
BEGIN:VTIMEZONE
TZID:America/New_York
BEGIN:DAYLIGHT
TZOFFSETFROM:-0500
TZOFFSETTO:-0400
TZNAME:EDT
DTSTART:20230312T070000
END:DAYLIGHT
BEGIN:STANDARD
TZOFFSETFROM:-0400
TZOFFSETTO:-0500
TZNAME:EST
DTSTART:20231105T060000
END:STANDARD
BEGIN:DAYLIGHT
TZOFFSETFROM:-0500
TZOFFSETTO:-0400
TZNAME:EDT
DTSTART:20240310T070000
END:DAYLIGHT
BEGIN:STANDARD
TZOFFSETFROM:-0400
TZOFFSETTO:-0500
TZNAME:EST
DTSTART:20241103T060000
END:STANDARD
BEGIN:DAYLIGHT
TZOFFSETFROM:-0500
TZOFFSETTO:-0400
TZNAME:EDT
DTSTART:20250309T070000
END:DAYLIGHT
BEGIN:STANDARD
TZOFFSETFROM:-0400
TZOFFSETTO:-0500
TZNAME:EST
DTSTART:20251102T060000
END:STANDARD
END:VTIMEZONE
BEGIN:VEVENT
DTSTART;TZID=America/New_York:20240617T190000
DTEND;TZID=America/New_York:20240617T203000
DTSTAMP:20260422T132904
CREATED:20240611T050120Z
LAST-MODIFIED:20240611T140450Z
UID:7274-1718650800-1718656200@stcfoc.com
SUMMARY:Men's Health Month Webinar (Prostate Cancer)
DESCRIPTION:June is National Men’s Health Month! The Health & Wellness Ministry and M.O.V.E. Men’s Ministry will host two VIRTUAL health seminars with medical experts to educate and empower men to take care of their health. \n\nOn Monday\, June 17th from 7:00 PM – 8:30 PM\, Chesapeake Urology will share info on Prostate Cancer: Screenings and Treatment.\n \nOn Thursday\, June 20th from 7:00 PM – 8:30 PM\, Lifebridge Health will discuss Medical Conditions & Blood Flow To The Brain.\n\nThese FREE health webinars are open to members AND the public so invite other men in your family and friends network to attend. \nCLICK HERE OR ON THE IMAGE BELOW TO REGISTER TODAY\n*NOTE: Once you sign-up\, the Zoom meeting link and info will appear on the sign-up confirmation page.\n 
URL:https://stcfoc.com/event/mens-health-webinar-prostate-cancer/
LOCATION:Online via ZOOM
CATEGORIES:Community,Featured,Health & Wellness,Men,Men's Ministry,MOVE Men's Ministry,Young Adults
END:VEVENT
BEGIN:VEVENT
DTSTART;TZID=America/New_York:20240628T183000
DTEND;TZID=America/New_York:20240628T203000
DTSTAMP:20260422T132904
CREATED:20240520T172854Z
LAST-MODIFIED:20240613T134911Z
UID:7204-1719599400-1719606600@stcfoc.com
SUMMARY:Reparations Film Screening: "Pay Up\, Get Out Of The Way"
DESCRIPTION:The STCF Social Action Committee will host a screening of the Baltimore-based documentary “Pay Up … Get Out Of The Way” and an intergenerational panel discussion on Friday\, June 28th from 6:30 PM – 8:30 PM. The documentary\, produced by Baltimore Reparations\, details government-sanctioned harm that has disenfranchised Black Baltimoreans for generations and how it should immediately be repaired. Come learn\, bring your ideas and participate in an engaging discussion about how you can be a part of the solution. \nCOMMUNITY EVENT & OPEN TO ALL AGES ⭐ IT’S FREE TO ATTEND – REGISTRATION IS REQUIRED.  Help us spread the word and invite your family\, friends and neighbors. VIEW THE TRAILER  & SCROLL DOWN THIS PAGE FOR LINK TO REGISTER FOR THE EVENT. \n \nSCAN THE QR CODE OR CLICK ON THE IMAGE BELOW TO REGISTER TODAY!\nClick HERE to download PDF file of the flyer to share\n 
URL:https://stcfoc.com/event/baltimore-reparations-film-screening/
LOCATION:Set The Captives Free Outreach Center (in The O.W.E. Center)\, 6901 Security Blvd\, Windsor Mill\, MD\, 21244
CATEGORIES:Community,Family,Featured,Men,Women,Young Adults,Youth
END:VEVENT
BEGIN:VEVENT
DTSTART;TZID=America/New_York:20240628T183000
DTEND;TZID=America/New_York:20240630T113000
DTSTAMP:20260422T132904
CREATED:20240520T132239Z
LAST-MODIFIED:20240603T141100Z
UID:7201-1719599400-1719747000@stcfoc.com
SUMMARY:FIREPROOF Youth & Young Adult Conference
DESCRIPTION:REGISTRATION IS OPEN for our “FIREPROOF Youth & Young Adult Conference” that will take place Friday\, June 28th through Sunday\, June 30th. This event is being hosted by our God’s Next Gen Youth Ministry and ROOTED Young Adult Ministry. OPEN TO THE COMMUNITY – ALL ARE WELCOME! – Youth in middle and high school (grades 6 – 12) and Young Adults (ages 18 – 35) are invited to join us for an incredible weekend of meaningful connection\, fun\, and faith-building. Get ready for a life-changing experience! \nSCAN THE QR CODE OR CLICK ON THE IMAGE BELOW TO REGISTER TODAY!\n \nThe cost is $45 per person for the all-inclusive conference weekend which includes: \nFri.\, June 28 | 6:30 – 8:30 PM: Baltimore Reparations documentary “Pay Up .. Get Out Of The Way” \nSat.\, June 29 | 8:30 AM – 12:30 PM: Summit with 2 tracks of interactive workshops and a real-talk panel discussion “Kingdom vs Kulture” \nSat.\, June 29 | 7:30 PM – 10:30 PM: Intergenerational DECADES party\, and \nSun.\, June 30 | 10:00 AM – 11:30 AM: A powerful\, faith-fueling Youth Sunday Worship Service with featured guest speaker\, Pastor Marlon Austin of Anointed House of Prayer Ministries. \n⭐ Snacks and FIREPROOF T-Shirt are included in your registration.\n⭐ Vendors will be available throughout the weekend.
URL:https://stcfoc.com/event/fireproof-youth-young-adult-conference/
LOCATION:Set The Captives Free Outreach Center (in The O.W.E. Center)\, 6901 Security Blvd\, Windsor Mill\, MD\, 21244
CATEGORIES:Community,Featured,God's Next Gen,Men,Outreach,Rooted,Women,Young Adults,Youth
END:VEVENT
BEGIN:VEVENT
DTSTART;TZID=America/New_York:20240629T193000
DTEND;TZID=America/New_York:20240629T223000
DTSTAMP:20260422T132904
CREATED:20240602T160402Z
LAST-MODIFIED:20240607T152435Z
UID:7143-1719689400-1719700200@stcfoc.com
SUMMARY:The Pulse: DECADES Party
DESCRIPTION:ROOTED Young Adult Ministry will host The Pulse – Intergenerational DECADES Party on Saturday\, June 29th from 7:30 to 10:30 PM. We are inviting Gen Z\, Millennials\, Gen X and Boomers to dress up in your favorite attire from the 80s\, 90s and 2000’s\, and come enjoy a fun-filled night to dance through the decades! \n⭐ Dynamic DJ\, vendors\, snacks\, beverages\, games & prizes for Best Dressed\, Best Dressed Couples & the 80s & 90s Dance Off! — You DO NOT want to miss it! ⭐ Tickets are ONLY $25! — Invite Your Friends and BUY YOUR TICKETS TODAY as this event will sell out! \nSCAN THE QR CODE BELOW OR CLICK HERE TO BUY YOUR TICKET FOR THE PULSE: DECADES PARTY TODAY!
URL:https://stcfoc.com/event/decades-party/
LOCATION:Set The Captives Free Outreach Center (in The O.W.E. Center)\, 6901 Security Blvd\, Windsor Mill\, MD\, 21244
CATEGORIES:Community,Family,Featured,Men,Rooted,Women,Young Adults,Youth
END:VEVENT
END:VCALENDAR