BEGIN:VCALENDAR
VERSION:2.0
PRODID:-//Set The Captives Free Outreach Center - ECPv6.15.20//NONSGML v1.0//EN
CALSCALE:GREGORIAN
METHOD:PUBLISH
X-WR-CALNAME:Set The Captives Free Outreach Center
X-ORIGINAL-URL:https://stcfoc.com
X-WR-CALDESC:Events for Set The Captives Free Outreach Center
REFRESH-INTERVAL;VALUE=DURATION:PT1H
X-Robots-Tag:noindex
X-PUBLISHED-TTL:PT1H
BEGIN:VTIMEZONE
TZID:America/New_York
BEGIN:DAYLIGHT
TZOFFSETFROM:-0500
TZOFFSETTO:-0400
TZNAME:EDT
DTSTART:20240310T070000
END:DAYLIGHT
BEGIN:STANDARD
TZOFFSETFROM:-0400
TZOFFSETTO:-0500
TZNAME:EST
DTSTART:20241103T060000
END:STANDARD
BEGIN:DAYLIGHT
TZOFFSETFROM:-0500
TZOFFSETTO:-0400
TZNAME:EDT
DTSTART:20250309T070000
END:DAYLIGHT
BEGIN:STANDARD
TZOFFSETFROM:-0400
TZOFFSETTO:-0500
TZNAME:EST
DTSTART:20251102T060000
END:STANDARD
BEGIN:DAYLIGHT
TZOFFSETFROM:-0500
TZOFFSETTO:-0400
TZNAME:EDT
DTSTART:20260308T070000
END:DAYLIGHT
BEGIN:STANDARD
TZOFFSETFROM:-0400
TZOFFSETTO:-0500
TZNAME:EST
DTSTART:20261101T060000
END:STANDARD
END:VTIMEZONE
BEGIN:VEVENT
DTSTART;VALUE=DATE:20250518
DTEND;VALUE=DATE:20250605
DTSTAMP:20260423T094238
CREATED:20250520T200133Z
LAST-MODIFIED:20250529T165521Z
UID:7207-1747526400-1749081599@stcfoc.com
SUMMARY:2025 Father's Day Tribute - Photo Submission
DESCRIPTION:Father’s Day is coming and we want to celebrate fathers and father-figures who love\, support\, and guide their children. We are accepting pictures of fathers\, and father-figures\, with their children of all ages (youth and adults) for our upcoming Father’s Day Photo Tribute. \nNOTE: To be included in the tribute\, please complete the form below and upload your picture NO LATER THAN 11:55 PM on Wednesday\, June 4th. \nCLICK HERE OR ON THE IMAGE BELOW TO SUBMIT YOUR PHOTO TODAY!
URL:https://stcfoc.com/event/2025-fathers-day-tribute-photo-submission/
CATEGORIES:ABC Kids,Family,Featured,Men,MOVE Men's Ministry,Rooted,Women,Young Adults,Youth
END:VEVENT
END:VCALENDAR